BEGIN:VCALENDAR
VERSION:2.0
PRODID:-//Българска асоциация по патология - ECPv5.7.0//NONSGML v1.0//EN
CALSCALE:GREGORIAN
METHOD:PUBLISH
X-WR-CALNAME:Българска асоциация по патология
X-ORIGINAL-URL:https://bpa-pathology.com
X-WR-CALDESC:Събития за Българска асоциация по патология
BEGIN:VTIMEZONE
TZID:Europe/Sofia
BEGIN:DAYLIGHT
TZOFFSETFROM:+0200
TZOFFSETTO:+0300
TZNAME:EEST
DTSTART:20220327T010000
END:DAYLIGHT
BEGIN:STANDARD
TZOFFSETFROM:+0300
TZOFFSETTO:+0200
TZNAME:EET
DTSTART:20221030T010000
END:STANDARD
END:VTIMEZONE
BEGIN:VEVENT
DTSTART;TZID=Europe/Sofia:20220615T080000
DTEND;TZID=Europe/Sofia:20220618T170000
DTSTAMP:20260423T164011
CREATED:20211221T154359Z
LAST-MODIFIED:20211221T154359Z
UID:3414-1655280000-1655571600@bpa-pathology.com
SUMMARY:18th European Congress on Digital Pathology
DESCRIPTION:The scientific committee of the 18th European Congress on Digital Pathology (ECDP2022) is pleased to invite you to submit your work for presentation. The congress will take place in Berlin\, Germany\, in 15-18th June 2022 as an in-person meeting. \nThe focus areas for ECDP2022 are: \n\nDigital pathology workflow implementation\n\nStandardization and Quality Assurance in Digital Pathology \n\n\nImage Analysis and AI on Whole Slide Images \n\n\nAI and digital pathology in education \n\n\nIntegration of morphological\, clinical\, and molecular data in clinical practice \n\n\nComputational pathology for molecular diagnostics and clinical interpretation \n\nStructured reporting and interoperability\n\n\nAbstract Submission Guidelines: https://www.ecdp2022.org/\nThe best abstracts will be selected for oral presentations. \nThe best oral presentation and the best poster presented at ECDP2022 will receive awards from ESDIP – European Society of Digital and Integrative Pathology.
URL:https://bpa-pathology.com/event/18th-european-congress-on-digital-pathology-2/
END:VEVENT
END:VCALENDAR