BEGIN:VCALENDAR
VERSION:2.0
PRODID:-//Българска асоциация по патология - ECPv5.7.0//NONSGML v1.0//EN
CALSCALE:GREGORIAN
METHOD:PUBLISH
X-WR-CALNAME:Българска асоциация по патология
X-ORIGINAL-URL:https://bpa-pathology.com
X-WR-CALDESC:Събития за Българска асоциация по патология
BEGIN:VTIMEZONE
TZID:Europe/Sofia
BEGIN:DAYLIGHT
TZOFFSETFROM:+0200
TZOFFSETTO:+0300
TZNAME:EEST
DTSTART:20260329T010000
END:DAYLIGHT
BEGIN:STANDARD
TZOFFSETFROM:+0300
TZOFFSETTO:+0200
TZNAME:EET
DTSTART:20261025T010000
END:STANDARD
END:VTIMEZONE
BEGIN:VEVENT
DTSTART;TZID=Europe/Sofia:20260617T080000
DTEND;TZID=Europe/Sofia:20260620T170000
DTSTAMP:20260424T135728
CREATED:20251219T062702Z
LAST-MODIFIED:20251219T062702Z
UID:3982-1781683200-1781974800@bpa-pathology.com
SUMMARY:22nd European Congress on Digital Pathology
DESCRIPTION:ECDP2026 will take place as part of the Week of Digital and Computational Pathology 2026\, organised by the European Society for Digital and Integrative Pathology (ESDIP).  The entire event will be held in Graz\, Austria\, from 15–20 June 2026\, as an in-person meeting. \nThe Week of Digital and Computational Pathology will begin on Monday\, 15 of June\, with a two-day hands-on Summer School on Computational Pathology for both pathologists and computer scientists\, jointly organised by ESDIP\, MICCAI\, and ASDP. On Tuesday\, Wednesday\, and Thursday\, laboratory technicians will have access to a dedicated educational track\, including laboratory visits\, workshops\, and scientific sessions. Wednesday’s programme will also feature laboratory visits\, allied society sessions\, user group meetings\, and industry workshops. \nThe week will conclude on Thursday with ECDP2026 as the main scientific event.
URL:https://bpa-pathology.com/event/22nd-european-congress-on-digital-pathology/
LOCATION:MESSE CONGRESS GRAZ\, BETRIEBSGESELLSCHAFT M.B.H.\, Graz\, A - 8010 GRAZ\, Австрия
END:VEVENT
END:VCALENDAR