BEGIN:VCALENDAR
VERSION:2.0
PRODID:-//Българска асоциация по патология - ECPv5.7.0//NONSGML v1.0//EN
CALSCALE:GREGORIAN
METHOD:PUBLISH
X-WR-CALNAME:Българска асоциация по патология
X-ORIGINAL-URL:https://bpa-pathology.com
X-WR-CALDESC:Събития за Българска асоциация по патология
BEGIN:VTIMEZONE
TZID:Europe/Sofia
BEGIN:DAYLIGHT
TZOFFSETFROM:+0200
TZOFFSETTO:+0300
TZNAME:EEST
DTSTART:20210328T010000
END:DAYLIGHT
BEGIN:STANDARD
TZOFFSETFROM:+0300
TZOFFSETTO:+0200
TZNAME:EET
DTSTART:20211031T010000
END:STANDARD
END:VTIMEZONE
BEGIN:VEVENT
DTSTART;TZID=Europe/Sofia:20210829T080000
DTEND;TZID=Europe/Sofia:20210831T170000
DTSTAMP:20260423T042521
CREATED:20210618T091348Z
LAST-MODIFIED:20210618T091348Z
UID:3261-1630224000-1630429200@bpa-pathology.com
SUMMARY:33rd European Congress of Pathology
DESCRIPTION:Over the last few months\, the European Society of Pathology (ESP) has been assessing the evolution of travelling restrictions\, global health reports and confinements associated with the current pandemic. The uncertain projections for the next months have led ESP to the decision to move the 33rd European Congress of Pathology (ECP) to a virtual setting. \nThe ECP 2021 will be the center for European international diagnostic and academic pathology. Pathologists and their collaborators\, molecular biologists\, geneticists\, bioinformaticians\, and information technologists will meet to share recent and important advances in our discipline that offer the latest diagnostic\, prognostic and predictive information needed in the best patient care.
URL:https://bpa-pathology.com/event/33rd-european-congress-of-pathology/
END:VEVENT
END:VCALENDAR