BEGIN:VCALENDAR
VERSION:2.0
PRODID:-//Българска асоциация по патология - ECPv5.7.0//NONSGML v1.0//EN
CALSCALE:GREGORIAN
METHOD:PUBLISH
X-WR-CALNAME:Българска асоциация по патология
X-ORIGINAL-URL:https://bpa-pathology.com
X-WR-CALDESC:Събития за Българска асоциация по патология
BEGIN:VTIMEZONE
TZID:Europe/Sofia
BEGIN:DAYLIGHT
TZOFFSETFROM:+0200
TZOFFSETTO:+0300
TZNAME:EEST
DTSTART:20220327T010000
END:DAYLIGHT
BEGIN:STANDARD
TZOFFSETFROM:+0300
TZOFFSETTO:+0200
TZNAME:EET
DTSTART:20221030T010000
END:STANDARD
END:VTIMEZONE
BEGIN:VEVENT
DTSTART;TZID=Europe/Sofia:20220903T080000
DTEND;TZID=Europe/Sofia:20220907T170000
DTSTAMP:20260423T203419
CREATED:20220111T135156Z
LAST-MODIFIED:20220111T135156Z
UID:3417-1662192000-1662570000@bpa-pathology.com
SUMMARY:34th European Congress of Pathology
DESCRIPTION:After two virtual ECPs in a row\, ESP is excited to go live again! And Basel\, Switzerland is the city which will see the revival – the 34th European Congress of Pathology will take place from 3 to 7 September 2022 at the Congress Center Basel. \nThe motto for the ECP 2022 – The Art of Next Generation Pathology – encompasses the broad range of modern pathology\, including next generation technologies as well as the next generation of pathologists but also points to the intuition and passion necessary in pathology as part of the Art of Medicine for the best management and maximal benefit for patients.
URL:https://bpa-pathology.com/event/34th-european-congress-of-pathology/
LOCATION:Congress Center Basel (CCB)\, Messeplatz 21\, 4058 Basel\, 4058\, Швейцария
END:VEVENT
END:VCALENDAR