BEGIN:VCALENDAR
VERSION:2.0
PRODID:-//Българска асоциация по патология - ECPv5.7.0//NONSGML v1.0//EN
CALSCALE:GREGORIAN
METHOD:PUBLISH
X-WR-CALNAME:Българска асоциация по патология
X-ORIGINAL-URL:https://bpa-pathology.com
X-WR-CALDESC:Събития за Българска асоциация по патология
BEGIN:VTIMEZONE
TZID:Europe/Sofia
BEGIN:DAYLIGHT
TZOFFSETFROM:+0200
TZOFFSETTO:+0300
TZNAME:EEST
DTSTART:20210328T010000
END:DAYLIGHT
BEGIN:STANDARD
TZOFFSETFROM:+0300
TZOFFSETTO:+0200
TZNAME:EET
DTSTART:20211031T010000
END:STANDARD
END:VTIMEZONE
BEGIN:VEVENT
DTSTART;TZID=Europe/Sofia:20210526T080000
DTEND;TZID=Europe/Sofia:20210527T170000
DTSTAMP:20260423T085915
CREATED:20210311T072105Z
LAST-MODIFIED:20210311T072105Z
UID:3128-1622016000-1622134800@bpa-pathology.com
SUMMARY:7th Digital Pathology & AI Congress: USA (virtual)
DESCRIPTION:AGENDA :  Digital-Pathology-USA-Virtual-2021.pdf (global-engage.com)  \nPRICING AND REGISTRATION:  Digital Pathology & AI Congress: USA (global-engage.com)
URL:https://bpa-pathology.com/event/7th-digital-pathology-ai-congress-usa-virtual/
END:VEVENT
END:VCALENDAR