BEGIN:VCALENDAR
VERSION:2.0
PRODID:-//Българска асоциация по патология - ECPv5.7.0//NONSGML v1.0//EN
CALSCALE:GREGORIAN
METHOD:PUBLISH
X-WR-CALNAME:Българска асоциация по патология
X-ORIGINAL-URL:https://bpa-pathology.com
X-WR-CALDESC:Събития за Българска асоциация по патология
BEGIN:VTIMEZONE
TZID:Europe/Sofia
BEGIN:DAYLIGHT
TZOFFSETFROM:+0200
TZOFFSETTO:+0300
TZNAME:EEST
DTSTART:20210328T010000
END:DAYLIGHT
BEGIN:STANDARD
TZOFFSETFROM:+0300
TZOFFSETTO:+0200
TZNAME:EET
DTSTART:20211031T010000
END:STANDARD
END:VTIMEZONE
BEGIN:VEVENT
DTSTART;TZID=Europe/Sofia:20211027T170000
DTEND;TZID=Europe/Sofia:20211027T183000
DTSTAMP:20260423T042317
CREATED:20211025T111733Z
LAST-MODIFIED:20211025T111733Z
UID:3363-1635354000-1635359400@bpa-pathology.com
SUMMARY:Activity and Chronicity in Antibody-mediated rejection
DESCRIPTION:The European Society of Pathology (ESP) is pleased to invite you to a new Nephropathology Working Group webinar titled „Activity and Chronicity in Antibody-mediated rejection“. \nDate: Wednesday\, 27 October at 16:00 – 17:00 CEST \nModerators:\nGiovanna Cenacchi (ITA)\nSamuel Rotman (CHE)\nHelmut Hopfer (CHE)\n\nSpeaker: \nCandice Roufosse (GBR)
URL:https://bpa-pathology.com/event/activity-and-chronicity-in-antibody-mediated-rejection/
END:VEVENT
END:VCALENDAR