BEGIN:VCALENDAR
VERSION:2.0
PRODID:-//Българска асоциация по патология - ECPv5.7.0//NONSGML v1.0//EN
CALSCALE:GREGORIAN
METHOD:PUBLISH
X-WR-CALNAME:Българска асоциация по патология
X-ORIGINAL-URL:https://bpa-pathology.com
X-WR-CALDESC:Събития за Българска асоциация по патология
BEGIN:VTIMEZONE
TZID:Europe/Sofia
BEGIN:DAYLIGHT
TZOFFSETFROM:+0200
TZOFFSETTO:+0300
TZNAME:EEST
DTSTART:20210328T010000
END:DAYLIGHT
BEGIN:STANDARD
TZOFFSETFROM:+0300
TZOFFSETTO:+0200
TZNAME:EET
DTSTART:20211031T010000
END:STANDARD
END:VTIMEZONE
BEGIN:VEVENT
DTSTART;TZID=Europe/Sofia:20210204T160000
DTEND;TZID=Europe/Sofia:20210204T170000
DTSTAMP:20260423T213150
CREATED:20210202T095445Z
LAST-MODIFIED:20210202T095445Z
UID:3082-1612454400-1612458000@bpa-pathology.com
SUMMARY:Advances in gynaecologic pathology - a practical approach
DESCRIPTION:The European Society of Pathology (ESP) is pleased to invite you to the webinar organised by the ESP Gynaecological Pathology Working Group (WG) on\n„Advances in gynaecologic pathology – a practical approach“ \nSpeakers:\nDr Raji Ganesan (UK)\nDr Simona Stolnicu (RO)\nDr Xavier Matias Guiu (ES)\nDr Tjalling Bosse (NL) \nModerators:\nDr Simona Stolnicu\nDr August Vidal Bel (ES) \nYou are invited to send your questions/comments related to the webinar at info@esp-pathology.org or during the meeting by typing these in the Q&A section of the Zoom platform. The questions/comments will be addressed right after the presentations.
URL:https://bpa-pathology.com/event/advances-in-gynaecologic-pathology-a-practical-approach/
END:VEVENT
END:VCALENDAR