BEGIN:VCALENDAR
VERSION:2.0
PRODID:-//Българска асоциация по патология - ECPv5.7.0//NONSGML v1.0//EN
CALSCALE:GREGORIAN
METHOD:PUBLISH
X-WR-CALNAME:Българска асоциация по патология
X-ORIGINAL-URL:https://bpa-pathology.com
X-WR-CALDESC:Събития за Българска асоциация по патология
BEGIN:VTIMEZONE
TZID:Europe/Sofia
BEGIN:DAYLIGHT
TZOFFSETFROM:+0200
TZOFFSETTO:+0300
TZNAME:EEST
DTSTART:20210328T010000
END:DAYLIGHT
BEGIN:STANDARD
TZOFFSETFROM:+0300
TZOFFSETTO:+0200
TZNAME:EET
DTSTART:20211031T010000
END:STANDARD
END:VTIMEZONE
BEGIN:VEVENT
DTSTART;TZID=Europe/Sofia:20210218T110000
DTEND;TZID=Europe/Sofia:20210218T130000
DTSTAMP:20260423T190612
CREATED:20210209T102340Z
LAST-MODIFIED:20210209T102340Z
UID:3102-1613646000-1613653200@bpa-pathology.com
SUMMARY:Case study webinar on spatial phenotyping of immune cell subsets in patients with lethal COVID-19
DESCRIPTION:During the event\, you’ll hear speakers describe how they used multiplexed imaging and single-cell analysis to study the immune response to SARS-CoV-2 across multiple organ systems. They will also discuss how deep immune phenotyping of COVID-19 tissue sections can reveal the influence of the spatial and structural relationships between SARS-CoV-2 and different cell types on disease pathology and progression. \nPlease register and we’ll send you the recording afterwards. \nMichael Schubert\nEditor | The Pathologist
URL:https://bpa-pathology.com/event/case-study-webinar-on-spatial-phenotyping-of-immune-cell-subsets-in-patients-with-lethal-covid-19/
END:VEVENT
END:VCALENDAR