BEGIN:VCALENDAR
VERSION:2.0
PRODID:-//Българска асоциация по патология - ECPv5.7.0//NONSGML v1.0//EN
CALSCALE:GREGORIAN
METHOD:PUBLISH
X-WR-CALNAME:Българска асоциация по патология
X-ORIGINAL-URL:https://bpa-pathology.com
X-WR-CALDESC:Събития за Българска асоциация по патология
BEGIN:VTIMEZONE
TZID:Europe/Sofia
BEGIN:DAYLIGHT
TZOFFSETFROM:+0200
TZOFFSETTO:+0300
TZNAME:EEST
DTSTART:20250330T010000
END:DAYLIGHT
BEGIN:STANDARD
TZOFFSETFROM:+0300
TZOFFSETTO:+0200
TZNAME:EET
DTSTART:20251026T010000
END:STANDARD
END:VTIMEZONE
BEGIN:VEVENT
DTSTART;TZID=Europe/Sofia:20251216T170000
DTEND;TZID=Europe/Sofia:20251216T180000
DTSTAMP:20260424T185955
CREATED:20251216T150323Z
LAST-MODIFIED:20251216T150347Z
UID:3976-1765904400-1765908000@bpa-pathology.com
SUMMARY:Chondrogenic Lesions - J. Bovee
DESCRIPTION:NODE\, on chondroblastic lesions\, by Prof. Judith Bovee \nnternational Guest Speaker:\nProf. Judith Bovée\nHead of the Bone and Soft Tissue Pathology Section\, Leiden University Medical Center (LUMC)\, The Netherlands\nBoard Member\, European Musculoskeletal Oncology Society (EMSOS)\nBoard Member\, National Workgroup for Molecular Diagnostics in Pathology \nTopic: “Chondrogenic Lesions of Bone” \nZoom Link:\nJoin the session
URL:https://bpa-pathology.com/event/chondrogenic-lesions-j-bovee/
END:VEVENT
END:VCALENDAR