BEGIN:VCALENDAR
VERSION:2.0
PRODID:-//Българска асоциация по патология - ECPv5.7.0//NONSGML v1.0//EN
CALSCALE:GREGORIAN
METHOD:PUBLISH
X-WR-CALNAME:Българска асоциация по патология
X-ORIGINAL-URL:https://bpa-pathology.com
X-WR-CALDESC:Събития за Българска асоциация по патология
BEGIN:VTIMEZONE
TZID:Europe/Sofia
BEGIN:DAYLIGHT
TZOFFSETFROM:+0200
TZOFFSETTO:+0300
TZNAME:EEST
DTSTART:20230326T010000
END:DAYLIGHT
BEGIN:STANDARD
TZOFFSETFROM:+0300
TZOFFSETTO:+0200
TZNAME:EET
DTSTART:20231029T010000
END:STANDARD
END:VTIMEZONE
BEGIN:VEVENT
DTSTART;TZID=Europe/Sofia:20230616T140000
DTEND;TZID=Europe/Sofia:20230617T170000
DTSTAMP:20260421T203744
CREATED:20230605T082035Z
LAST-MODIFIED:20230605T082035Z
UID:3639-1686924000-1687021200@bpa-pathology.com
SUMMARY:Comprehensive approach in contemporary treatment of thoracic malignancies
DESCRIPTION:Научна среща на AstraZeneca България с домакинството на ACIBADEM CityClinic УМБАЛ ТОКУДА \n на тема Всеобхватно поведение в съвременното лечение на торакалните тумори \n Място на провеждане: Аджибадем Сити Клиник УМБАЛ Токуда \nНачало: 16.06.2023 (петък) от 14:00 ч. \nКрай на научната част: 17.06.2023 (събота) 17:00 ч.*
URL:https://bpa-pathology.com/event/comprehensive-approach-in-contemporary-treatment-of-thoracic-malignancies/
END:VEVENT
END:VCALENDAR