BEGIN:VCALENDAR
VERSION:2.0
PRODID:-//Българска асоциация по патология - ECPv5.7.0//NONSGML v1.0//EN
CALSCALE:GREGORIAN
METHOD:PUBLISH
X-WR-CALNAME:Българска асоциация по патология
X-ORIGINAL-URL:https://bpa-pathology.com
X-WR-CALDESC:Събития за Българска асоциация по патология
BEGIN:VTIMEZONE
TZID:Europe/Sofia
BEGIN:DAYLIGHT
TZOFFSETFROM:+0200
TZOFFSETTO:+0300
TZNAME:EEST
DTSTART:20230326T010000
END:DAYLIGHT
BEGIN:STANDARD
TZOFFSETFROM:+0300
TZOFFSETTO:+0200
TZNAME:EET
DTSTART:20231029T010000
END:STANDARD
END:VTIMEZONE
BEGIN:VEVENT
DTSTART;TZID=Europe/Sofia:20230516T080000
DTEND;TZID=Europe/Sofia:20230518T170000
DTSTAMP:20260424T121305
CREATED:20230126T145521Z
LAST-MODIFIED:20230126T145521Z
UID:3584-1684224000-1684429200@bpa-pathology.com
SUMMARY:Dermpedia CME Course In person and Online
DESCRIPTION:We are working very hard to produce a very innovative hybrid event using new Zoom Events platform which will assure great experience of both in person and online participants.\nThis will be a very practical Course with a significant self-study component covering diverse topics including inflammatory dermatopathology\, lymphoma\, melanocytic lesions\, adnexal neoplasms and soft tissue tumors. The participants will be able to preview digitally scanned 75 challenging cases which will be later discussed by Drs. Nneka Comfere\, Philip LeBoit\, Richard Scolyer and Artur Zembowicz.\nCourse is approved for 21 AMA-CME credits.\nThe participants will be able to pay by a credit card or ask for an invoice to be sent to them or their Institution.\nWe greatly appreciate early registrations which help our planning. We have extended early registration rate till March 31st.\nPlease click on the Course Image below to learn more (watch Dr. Z’s video) or click here – REGISTER HERE\n\n\n\n\n\n\n\nTarget Audience: \nExperienced Pathologists\, Dermatologists and Dermatopathologists \nFormat: Self Study\, Mini-Lectures and Case Reviews with Faculty (Q&As\, and quizzes)
URL:https://bpa-pathology.com/event/dermpedia-cme-course-in-person-and-online/
LOCATION:Krakow\, Poland
END:VEVENT
END:VCALENDAR