BEGIN:VCALENDAR
VERSION:2.0
PRODID:-//Българска асоциация по патология - ECPv5.7.0//NONSGML v1.0//EN
CALSCALE:GREGORIAN
METHOD:PUBLISH
X-WR-CALNAME:Българска асоциация по патология
X-ORIGINAL-URL:https://bpa-pathology.com
X-WR-CALDESC:Събития за Българска асоциация по патология
BEGIN:VTIMEZONE
TZID:Europe/Sofia
BEGIN:DAYLIGHT
TZOFFSETFROM:+0200
TZOFFSETTO:+0300
TZNAME:EEST
DTSTART:20220327T010000
END:DAYLIGHT
BEGIN:STANDARD
TZOFFSETFROM:+0300
TZOFFSETTO:+0200
TZNAME:EET
DTSTART:20221030T010000
END:STANDARD
END:VTIMEZONE
BEGIN:VEVENT
DTSTART;TZID=Europe/Sofia:20220324T080000
DTEND;TZID=Europe/Sofia:20220325T170000
DTSTAMP:20260423T063058
CREATED:20220217T110749Z
LAST-MODIFIED:20220217T110749Z
UID:3446-1648108800-1648227600@bpa-pathology.com
SUMMARY:Digital Pathology & AI Conference (Hybrid event)
DESCRIPTION:  12+ speakers from companies such as: Alexander Klimowicz from Boehringer Ingelheim\, Liron Pantanowitz from University of Michigan\, Anil Parwani from The Ohio State University\,\nAnant Madabhushi from Case Western Reserve University\, Tony Zucca from NanoString Technologies and more; \n    12+ Case studies; \n ·            Panel Discussions; \n·            Business Luncheon; \n    Join our keynote speakers and our hosts to discuss the following topics: \n·           Digital pathology – trends\, strategy and technology; \n·           AI for image analysis and advancements in imaging; \n·           Implementation: practicalities and costs; \n·           Pharma and industry case studies; \n·           Computational pathology and AI; \n   The list of the Speakers\, Case Studies\, and 2-day Event Program are available in the attached Agenda. \n    Special early bird offers for Oncology Hospital Sofia: \n   Register/Pay until February 22nd and get 25% off for the delegate package or 100 EUR off the webinar package. \n   Get a group discount for any of the packages (contact me for the further details); \n    We are carefully monitoring the developing situation with COVID-19\, and the impact it is having on health and safety\, travel and public events. We are hopeful that COVID-19 will not impact any of our 2022 planned events. However\, due to the current uncertainty\, we’ve added the opportunity to participate in „Digital Pathology & AI Conference„ via our e-summit platform. 
URL:https://bpa-pathology.com/event/digital-pathology-ai-conference-hybrid-event/
LOCATION:ECDP\, Lisbon\, Португалия
END:VEVENT
END:VCALENDAR