BEGIN:VCALENDAR
VERSION:2.0
PRODID:-//Българска асоциация по патология - ECPv5.7.0//NONSGML v1.0//EN
CALSCALE:GREGORIAN
METHOD:PUBLISH
X-WR-CALNAME:Българска асоциация по патология
X-ORIGINAL-URL:https://bpa-pathology.com
X-WR-CALDESC:Събития за Българска асоциация по патология
BEGIN:VTIMEZONE
TZID:Europe/Sofia
BEGIN:DAYLIGHT
TZOFFSETFROM:+0200
TZOFFSETTO:+0300
TZNAME:EEST
DTSTART:20210328T010000
END:DAYLIGHT
BEGIN:STANDARD
TZOFFSETFROM:+0300
TZOFFSETTO:+0200
TZNAME:EET
DTSTART:20211031T010000
END:STANDARD
END:VTIMEZONE
BEGIN:VEVENT
DTSTART;TZID=Europe/Sofia:20211211T080000
DTEND;TZID=Europe/Sofia:20211212T170000
DTSTAMP:20260423T024508
CREATED:20210415T092104Z
LAST-MODIFIED:20210415T092104Z
UID:3167-1639209600-1639328400@bpa-pathology.com
SUMMARY:ESO-ESP Digital Pathology Seminar
DESCRIPTION:e-eso (e-eso.net) \n 
URL:https://bpa-pathology.com/event/eso-esp-digital-pathology-seminar/
END:VEVENT
END:VCALENDAR