BEGIN:VCALENDAR
VERSION:2.0
PRODID:-//Българска асоциация по патология - ECPv5.7.0//NONSGML v1.0//EN
CALSCALE:GREGORIAN
METHOD:PUBLISH
X-WR-CALNAME:Българска асоциация по патология
X-ORIGINAL-URL:https://bpa-pathology.com
X-WR-CALDESC:Събития за Българска асоциация по патология
BEGIN:VTIMEZONE
TZID:Europe/Sofia
BEGIN:DAYLIGHT
TZOFFSETFROM:+0200
TZOFFSETTO:+0300
TZNAME:EEST
DTSTART:20220327T010000
END:DAYLIGHT
BEGIN:STANDARD
TZOFFSETFROM:+0300
TZOFFSETTO:+0200
TZNAME:EET
DTSTART:20221030T010000
END:STANDARD
END:VTIMEZONE
BEGIN:VEVENT
DTSTART;TZID=Europe/Sofia:20220511T170000
DTEND;TZID=Europe/Sofia:20220511T183000
DTSTAMP:20260423T113838
CREATED:20220504T170715Z
LAST-MODIFIED:20220504T170715Z
UID:3507-1652288400-1652293800@bpa-pathology.com
SUMMARY:ESP Thymic and Mediastinal Working Group
DESCRIPTION:For organisational reasons\, please\, let us know until May 09\, whether you will be presenting a case by \nemail at: m.szolkowska@gmail.com ; j.vonderthusen@erasmusmc.nl\n\nMalgorzata Szolkowska and Jan von der Thüsen\nChairs of the Thymic and Mediastinal Working Group of the European Society of Pathology\n\n\nLink to the meeting:\nhttps://us06web.zoom.us/j/87318982109?pwd=SU1qbldON1pWQnJtalNndmtNSWlJdz09
URL:https://bpa-pathology.com/event/esp-thymic-and-mediastinal-working-group/
END:VEVENT
END:VCALENDAR