BEGIN:VCALENDAR
VERSION:2.0
PRODID:-//Българска асоциация по патология - ECPv5.7.0//NONSGML v1.0//EN
CALSCALE:GREGORIAN
METHOD:PUBLISH
X-WR-CALNAME:Българска асоциация по патология
X-ORIGINAL-URL:https://bpa-pathology.com
X-WR-CALDESC:Събития за Българска асоциация по патология
BEGIN:VTIMEZONE
TZID:Europe/Sofia
BEGIN:DAYLIGHT
TZOFFSETFROM:+0200
TZOFFSETTO:+0300
TZNAME:EEST
DTSTART:20230326T010000
END:DAYLIGHT
BEGIN:STANDARD
TZOFFSETFROM:+0300
TZOFFSETTO:+0200
TZNAME:EET
DTSTART:20231029T010000
END:STANDARD
END:VTIMEZONE
BEGIN:VEVENT
DTSTART;TZID=Europe/Sofia:20231106T150000
DTEND;TZID=Europe/Sofia:20231106T180000
DTSTAMP:20260421T110834
CREATED:20231102T093249Z
LAST-MODIFIED:20231102T093249Z
UID:3682-1699282800-1699293600@bpa-pathology.com
SUMMARY:Hot topics in thymic pathology
DESCRIPTION:The European Society of Pathology (ESP)\, commited to providing updated education in pathology\, is pleased to announce a new live webinar titled „Hot topics in thymic pathology“.
URL:https://bpa-pathology.com/event/hot-topics-in-thymic-pathology/
END:VEVENT
END:VCALENDAR