BEGIN:VCALENDAR
VERSION:2.0
PRODID:-//Българска асоциация по патология - ECPv5.7.0//NONSGML v1.0//EN
CALSCALE:GREGORIAN
METHOD:PUBLISH
X-WR-CALNAME:Българска асоциация по патология
X-ORIGINAL-URL:https://bpa-pathology.com
X-WR-CALDESC:Събития за Българска асоциация по патология
BEGIN:VTIMEZONE
TZID:Europe/Sofia
BEGIN:DAYLIGHT
TZOFFSETFROM:+0200
TZOFFSETTO:+0300
TZNAME:EEST
DTSTART:20220327T010000
END:DAYLIGHT
BEGIN:STANDARD
TZOFFSETFROM:+0300
TZOFFSETTO:+0200
TZNAME:EET
DTSTART:20221030T010000
END:STANDARD
END:VTIMEZONE
BEGIN:VEVENT
DTSTART;TZID=Europe/Sofia:20220918T080000
DTEND;TZID=Europe/Sofia:20220921T170000
DTSTAMP:20260423T215724
CREATED:20220613T112953Z
LAST-MODIFIED:20220613T112953Z
UID:3520-1663488000-1663779600@bpa-pathology.com
SUMMARY:Intensive Course in Head and Neck Pathology
DESCRIPTION:For on-line registration\, the official web site https://hd–iap.gr/ is now active.\nHellenic Division e-mail: hellenicdivisionofiap@gmail.com. \n\nFor hotel accommodation\, please contact directly to VALIS hotel by e-mail: reservations@valisresort.gr. Do not\nmiss the early bird booking offer for a full board accommodation we have negotiated especially for you (expiring \ndate: July 1\, 2022).
URL:https://bpa-pathology.com/event/intensive-course-in-head-and-neck-pathology/
LOCATION:VALIS hotel\, Stathmos\, Argia\, 37300\, Гърция
END:VEVENT
END:VCALENDAR