BEGIN:VCALENDAR
VERSION:2.0
PRODID:-//Българска асоциация по патология - ECPv5.7.0//NONSGML v1.0//EN
CALSCALE:GREGORIAN
METHOD:PUBLISH
X-WR-CALNAME:Българска асоциация по патология
X-ORIGINAL-URL:https://bpa-pathology.com
X-WR-CALDESC:Събития за Българска асоциация по патология
BEGIN:VTIMEZONE
TZID:Europe/Sofia
BEGIN:DAYLIGHT
TZOFFSETFROM:+0200
TZOFFSETTO:+0300
TZNAME:EEST
DTSTART:20220327T010000
END:DAYLIGHT
BEGIN:STANDARD
TZOFFSETFROM:+0300
TZOFFSETTO:+0200
TZNAME:EET
DTSTART:20221030T010000
END:STANDARD
END:VTIMEZONE
BEGIN:VEVENT
DTSTART;TZID=Europe/Sofia:20221017T083000
DTEND;TZID=Europe/Sofia:20221017T170000
DTSTAMP:20260424T003544
CREATED:20220824T074603Z
LAST-MODIFIED:20220824T074603Z
UID:3531-1665995400-1666026000@bpa-pathology.com
SUMMARY:International Melanoma Pathology Symposium
DESCRIPTION:For registration: 2021 SMR Congress – Event Login (sitesolutionsworldwide.com) \n 
URL:https://bpa-pathology.com/event/international-melanoma-pathology-symposium/
LOCATION:Edinburgh International Convention Center\, Edinburgh\, Великобритания
END:VEVENT
END:VCALENDAR