BEGIN:VCALENDAR
VERSION:2.0
PRODID:-//Българска асоциация по патология - ECPv5.7.0//NONSGML v1.0//EN
CALSCALE:GREGORIAN
METHOD:PUBLISH
X-WR-CALNAME:Българска асоциация по патология
X-ORIGINAL-URL:https://bpa-pathology.com
X-WR-CALDESC:Събития за Българска асоциация по патология
BEGIN:VTIMEZONE
TZID:Europe/Sofia
BEGIN:DAYLIGHT
TZOFFSETFROM:+0200
TZOFFSETTO:+0300
TZNAME:EEST
DTSTART:20220327T010000
END:DAYLIGHT
BEGIN:STANDARD
TZOFFSETFROM:+0300
TZOFFSETTO:+0200
TZNAME:EET
DTSTART:20221030T010000
END:STANDARD
END:VTIMEZONE
BEGIN:VEVENT
DTSTART;TZID=Europe/Sofia:20220420T080000
DTEND;TZID=Europe/Sofia:20220421T170000
DTSTAMP:20260423T085941
CREATED:20220401T093716Z
LAST-MODIFIED:20220401T093716Z
UID:3485-1650441600-1650560400@bpa-pathology.com
SUMMARY:LAB QUALITY DAYS
DESCRIPTION:LQD22_KV-ohjelma_2903
URL:https://bpa-pathology.com/event/lab-quality-days/
END:VEVENT
END:VCALENDAR