BEGIN:VCALENDAR
VERSION:2.0
PRODID:-//Българска асоциация по патология - ECPv5.7.0//NONSGML v1.0//EN
CALSCALE:GREGORIAN
METHOD:PUBLISH
X-WR-CALNAME:Българска асоциация по патология
X-ORIGINAL-URL:https://bpa-pathology.com
X-WR-CALDESC:Събития за Българска асоциация по патология
BEGIN:VTIMEZONE
TZID:Europe/Sofia
BEGIN:DAYLIGHT
TZOFFSETFROM:+0200
TZOFFSETTO:+0300
TZNAME:EEST
DTSTART:20230326T010000
END:DAYLIGHT
BEGIN:STANDARD
TZOFFSETFROM:+0300
TZOFFSETTO:+0200
TZNAME:EET
DTSTART:20231029T010000
END:STANDARD
END:VTIMEZONE
BEGIN:VEVENT
DTSTART;TZID=Europe/Sofia:20230209T080000
DTEND;TZID=Europe/Sofia:20230210T170000
DTSTAMP:20260424T043631
CREATED:20221003T145502Z
LAST-MODIFIED:20221003T145502Z
UID:3539-1675929600-1676048400@bpa-pathology.com
SUMMARY:Labquality Days 2023: Introducing the congress themes
DESCRIPTION:International Congress on Quality\nin Laboratory Medicine and Health Technology\nLabquality Days will be organised on 9-10 February 2023 in Helsinki\, Finland. This time the congress will focus on sustainability and how to anticipate the future. \nThe scientific programme includes many interesting expert lectures and panel discussions that will look at the themes from the perspectives of medical laboratories and the health technology field. \n❄ What does sustainability mean for clinical laboratories and health tech companies?\n❄ How can laboratories and medical device manufacturers prepare for challenging situations? \n\n\n\n\nSee the full programme here
URL:https://bpa-pathology.com/event/labquality-days-2023-introducing-the-congress-themes/
END:VEVENT
END:VCALENDAR