BEGIN:VCALENDAR
VERSION:2.0
PRODID:-//Българска асоциация по патология - ECPv5.7.0//NONSGML v1.0//EN
CALSCALE:GREGORIAN
METHOD:PUBLISH
X-WR-CALNAME:Българска асоциация по патология
X-ORIGINAL-URL:https://bpa-pathology.com
X-WR-CALDESC:Събития за Българска асоциация по патология
BEGIN:VTIMEZONE
TZID:Europe/Sofia
BEGIN:DAYLIGHT
TZOFFSETFROM:+0200
TZOFFSETTO:+0300
TZNAME:EEST
DTSTART:20220327T010000
END:DAYLIGHT
BEGIN:STANDARD
TZOFFSETFROM:+0300
TZOFFSETTO:+0200
TZNAME:EET
DTSTART:20221030T010000
END:STANDARD
END:VTIMEZONE
BEGIN:VEVENT
DTSTART;TZID=Europe/Sofia:20220603T080000
DTEND;TZID=Europe/Sofia:20220604T170000
DTSTAMP:20260423T140421
CREATED:20220405T085205Z
LAST-MODIFIED:20220405T085205Z
UID:3491-1654243200-1654362000@bpa-pathology.com
SUMMARY:Лятна академия по молекулярна патология
DESCRIPTION:Патология на гърда – предизвикателства в диагностиката.  Място на персонализираната медицина в диагностиката и терапията\n\nОрганизирана от БАППМ и Медицински Университет – Плевен
URL:https://bpa-pathology.com/event/lyatna-akademia-po-molekulyarna-patologia/
LOCATION:Медицински университет – Плевен
END:VEVENT
END:VCALENDAR