BEGIN:VCALENDAR
VERSION:2.0
PRODID:-//Българска асоциация по патология - ECPv5.7.0//NONSGML v1.0//EN
CALSCALE:GREGORIAN
METHOD:PUBLISH
X-WR-CALNAME:Българска асоциация по патология
X-ORIGINAL-URL:https://bpa-pathology.com
X-WR-CALDESC:Събития за Българска асоциация по патология
BEGIN:VTIMEZONE
TZID:Europe/Sofia
BEGIN:DAYLIGHT
TZOFFSETFROM:+0200
TZOFFSETTO:+0300
TZNAME:EEST
DTSTART:20210328T010000
END:DAYLIGHT
BEGIN:STANDARD
TZOFFSETFROM:+0300
TZOFFSETTO:+0200
TZNAME:EET
DTSTART:20211031T010000
END:STANDARD
END:VTIMEZONE
BEGIN:VEVENT
DTSTART;TZID=Europe/Sofia:20211113T080000
DTEND;TZID=Europe/Sofia:20211113T170000
DTSTAMP:20260423T063307
CREATED:20211011T124356Z
LAST-MODIFIED:20211011T124356Z
UID:3330-1636790400-1636822800@bpa-pathology.com
SUMMARY:Open day National Locums
DESCRIPTION:We are looking forward to welcoming you to our open day\, held at our offices in Milton Keynes. After a long period of virtual meetings and events\, we are delighted to be hosting our open day and can’t wait to meet all of our candidates face to face.\nThe day will be running from 10 am – 4 pm\, when you register you will be asked a rough estimated time of arrival\, so we can make the most of your time with us. \nHere’s what you can expect from the day: \n– As you arrive you will be greeted by our team and given your information pack for the day. \n– Throughout your visit we will lead you through different stations including; \nBLS Station\nCompliance Station\nManual Handling Station\nPhlebotomy Station \n– We will provide teas and coffees\, snacks and lunch for you\, so there is no need to bring anything along. \nCPD: You will be able to claim up to 15 CPD points for the day. \nLocation: National Locums\, 7 Clarendon Drive\, Wymbush\, Milton Keynes\, MK88ED. \nContact: +44 (0) 1908776477
URL:https://bpa-pathology.com/event/open-day-national-locums/
ATTACH;FMTTYPE=image/png:https://bpa-pathology.com/wp-content/uploads/2021/10/NationalLocum-opendays.png
END:VEVENT
END:VCALENDAR