BEGIN:VCALENDAR
VERSION:2.0
PRODID:-//Българска асоциация по патология - ECPv5.7.0//NONSGML v1.0//EN
CALSCALE:GREGORIAN
METHOD:PUBLISH
X-WR-CALNAME:Българска асоциация по патология
X-ORIGINAL-URL:https://bpa-pathology.com
X-WR-CALDESC:Събития за Българска асоциация по патология
BEGIN:VTIMEZONE
TZID:Europe/Sofia
BEGIN:DAYLIGHT
TZOFFSETFROM:+0200
TZOFFSETTO:+0300
TZNAME:EEST
DTSTART:20220327T010000
END:DAYLIGHT
BEGIN:STANDARD
TZOFFSETFROM:+0300
TZOFFSETTO:+0200
TZNAME:EET
DTSTART:20221030T010000
END:STANDARD
END:VTIMEZONE
BEGIN:VEVENT
DTSTART;TZID=Europe/Sofia:20220616T180000
DTEND;TZID=Europe/Sofia:20220616T190000
DTSTAMP:20260423T191737
CREATED:20220614T084959Z
LAST-MODIFIED:20220614T084959Z
UID:3524-1655402400-1655406000@bpa-pathology.com
SUMMARY:Precision Pathology Insights (online)
DESCRIPTION:A Systematic Approach for Simplified CPS Evaluation\n\n\nImprove your confidence in scoring with the in-depth webinar series from Agilent. \n\n\n\n\n\n\n\nJune 16\, 2022 – Simplifying CPS Evaluation\n\n\nJoin Tumor Pathology professor and senior pathologist Dr. Hans-Ulrich Schildhaus for the latest Agilent webinar. Dr. Schildhaus shares his expertise on „Confidence in Evaluating Combined Positive Score: How a Systematic Approach Can Simplify PD-L1 Scoring with CPS”: \n\nScoring techniques that are tissue agnostic\nAgilent-developed guidance and illustrations used to train pathologists\nReal-world cases and step-by-step processes used by Dr. Schildhaus to score stains in his own practice\nTips to ensure accurate and efficient evaluation\n\n\n\n\n\n\n\n\n\n\n\n\nRegister now
URL:https://bpa-pathology.com/event/precision-pathology-insights-online/
END:VEVENT
END:VCALENDAR