BEGIN:VCALENDAR
VERSION:2.0
PRODID:-//Българска асоциация по патология - ECPv5.7.0//NONSGML v1.0//EN
CALSCALE:GREGORIAN
METHOD:PUBLISH
X-WR-CALNAME:Българска асоциация по патология
X-ORIGINAL-URL:https://bpa-pathology.com
X-WR-CALDESC:Събития за Българска асоциация по патология
BEGIN:VTIMEZONE
TZID:Europe/Sofia
BEGIN:DAYLIGHT
TZOFFSETFROM:+0200
TZOFFSETTO:+0300
TZNAME:EEST
DTSTART:20210328T010000
END:DAYLIGHT
BEGIN:STANDARD
TZOFFSETFROM:+0300
TZOFFSETTO:+0200
TZNAME:EET
DTSTART:20211031T010000
END:STANDARD
END:VTIMEZONE
BEGIN:VEVENT
DTSTART;TZID=Europe/Sofia:20211124T100000
DTEND;TZID=Europe/Sofia:20211124T113000
DTSTAMP:20260423T051826
CREATED:20211022T091459Z
LAST-MODIFIED:20211022T091459Z
UID:3360-1637748000-1637753400@bpa-pathology.com
SUMMARY:The Integrative Dimension of Pathology
DESCRIPTION:The ESDIP workshop series is back for a 3rd edition\, this time dedicated to „The Integrative Dimension of Pathology“\, on November 24\, 2021. \n\nIn this third edition\, ESDIP – European Society of Digital and Integrative Pathology will focus on the integration of digital pathology with other subspecialties\, including molecular pathology\, radiology\, and immuno-oncology. \nTogether with clinical data and in a standardized and safe environment\, this bridging might pave the way to better-integrated solutions to predict prognosis and response to treatment. \nAs always\, we will have international speakers who will discuss whether if integrative pathology might represent the fourth revolution in pathology\, forming the basis for everyday use of computational pathology in our labs and integrating raw data from different sources and modalities. \nSet for November 24th\, starting at 9:00 am (CET)\, this online event is free for ESDIP members. For non-members\, the fee is 150 euros. Registration is mandatory for all participants. \nRegister at www.esdipevents.org until the 23rd of November and stay tuned for more news. \nJoin this new revolution: ESDIP is here to welcome you. \nSincerely\,\nThe Scientific Committee of ESDIP
URL:https://bpa-pathology.com/event/the-integrative-dimension-of-pathology/
END:VEVENT
END:VCALENDAR