BEGIN:VCALENDAR
VERSION:2.0
PRODID:-//Българска асоциация по патология - ECPv5.7.0//NONSGML v1.0//EN
CALSCALE:GREGORIAN
METHOD:PUBLISH
X-WR-CALNAME:Българска асоциация по патология
X-ORIGINAL-URL:https://bpa-pathology.com
X-WR-CALDESC:Събития за Българска асоциация по патология
BEGIN:VTIMEZONE
TZID:Europe/Sofia
BEGIN:DAYLIGHT
TZOFFSETFROM:+0200
TZOFFSETTO:+0300
TZNAME:EEST
DTSTART:20210328T010000
END:DAYLIGHT
BEGIN:STANDARD
TZOFFSETFROM:+0300
TZOFFSETTO:+0200
TZNAME:EET
DTSTART:20211031T010000
END:STANDARD
END:VTIMEZONE
BEGIN:VEVENT
DTSTART;TZID=Europe/Sofia:20211215T170000
DTEND;TZID=Europe/Sofia:20211215T183000
DTSTAMP:20260423T041912
CREATED:20211213T094539Z
LAST-MODIFIED:20211213T094539Z
UID:3401-1639587600-1639593000@bpa-pathology.com
SUMMARY:Thymic hyperplasias - classification and differential diagnosis
DESCRIPTION:Thymic-Mediastinal Pathology Working Group webinar titled „Thymic hyperplasias – classification and differential diagnosis“. \nDate: Wednesday\, 15 December 2021 at 16:00 – 17:30 CET \nModerator:\nAlexander Marx (DE) \n\nSpeakers:\nStefan Porubsky (DE)\nLaurence de Leval (CH)\nJan von der Thüsen (NL)\nMalgorzata Szolkowska (PL)
URL:https://bpa-pathology.com/event/thymic-hyperplasias-classification-and-differential-diagnosis/
END:VEVENT
END:VCALENDAR