BEGIN:VCALENDAR
VERSION:2.0
PRODID:-//Българска асоциация по патология - ECPv5.7.0//NONSGML v1.0//EN
CALSCALE:GREGORIAN
METHOD:PUBLISH
X-WR-CALNAME:Българска асоциация по патология
X-ORIGINAL-URL:https://bpa-pathology.com
X-WR-CALDESC:Събития за Българска асоциация по патология
BEGIN:VTIMEZONE
TZID:Europe/Sofia
BEGIN:DAYLIGHT
TZOFFSETFROM:+0200
TZOFFSETTO:+0300
TZNAME:EEST
DTSTART:20220327T010000
END:DAYLIGHT
BEGIN:STANDARD
TZOFFSETFROM:+0300
TZOFFSETTO:+0200
TZNAME:EET
DTSTART:20221030T010000
END:STANDARD
END:VTIMEZONE
BEGIN:VEVENT
DTSTART;TZID=Europe/Sofia:20220320T103000
DTEND;TZID=Europe/Sofia:20220320T123000
DTSTAMP:20260423T052838
CREATED:20220318T114020Z
LAST-MODIFIED:20220318T114020Z
UID:3466-1647772200-1647779400@bpa-pathology.com
SUMMARY:USCAP 2022 Companion Course
DESCRIPTION:The European Society of Pathology (ESP) is proud to inform ESP members about the ESP Companion Course which will be organised during the annual USCAP Meeting (March 19 – 24\, 2022). \nThe 2022 Course will underline new and emerging tumor entities in the WHO classifications\, with a special focus on tumor entities in salivary glands and other head and neck organs\, breast\, stomach and in the endometrium and ovaries. \nThe presented topics will be addressed by expert faculty with diagnostic and research expertise in these areas. Recognition of pathogenesis\, histological criteria and molecular basis of new and emerging entities are vital for characterizing and classifying such anomalies\, enhancing clinical management\, and lessening the risk of diagnostic errors. The impact of using novel diagnostic procedures\, including molecular approaches\, on identifying molecular predictive and prognostic markers and on selecting targeted molecular therapy will be significant.\nThe ESP Companion Course will take place on Sunday 20 March 2022 at 10:30 – 12:30 (Local time).\nColleagues attending the USCAP 2022 meeting in Los Angeles\, USA\, are invited to attend the ESP Companion Course.\nMore information is provided via this LINK. \n 
URL:https://bpa-pathology.com/event/uscap-2022-companion-course/
END:VEVENT
END:VCALENDAR