BEGIN:VCALENDAR
VERSION:2.0
PRODID:-//Българска асоциация по патология - ECPv5.7.0//NONSGML v1.0//EN
CALSCALE:GREGORIAN
METHOD:PUBLISH
X-WR-CALNAME:Българска асоциация по патология
X-ORIGINAL-URL:https://bpa-pathology.com
X-WR-CALDESC:Събития за Българска асоциация по патология
BEGIN:VTIMEZONE
TZID:Europe/Sofia
BEGIN:DAYLIGHT
TZOFFSETFROM:+0200
TZOFFSETTO:+0300
TZNAME:EEST
DTSTART:20220327T010000
END:DAYLIGHT
BEGIN:STANDARD
TZOFFSETFROM:+0300
TZOFFSETTO:+0200
TZNAME:EET
DTSTART:20221030T010000
END:STANDARD
END:VTIMEZONE
BEGIN:VEVENT
DTSTART;TZID=Europe/Sofia:20220405T120000
DTEND;TZID=Europe/Sofia:20220405T130000
DTSTAMP:20260423T074028
CREATED:20220329T110141Z
LAST-MODIFIED:20220329T110141Z
UID:3481-1649160000-1649163600@bpa-pathology.com
SUMMARY:Use of SureSelect NGS Panels for Genotype-to-Chemotype Classification in Cannabis sativa L.
DESCRIPTION:The genome of Cannabis sativa L. is about 900 Mb — 63 percent AT-rich and one-to-two percent polymorphic. Due to its size and repetitive nature\, targeted sequencing approaches are desirable. Cannabinoids have been demonstrated to be therapeutic compounds\, finding use in epilepsy\, cancer\, autoimmune disease\, and even potentially in COVID-19. Understanding the genetics that govern the expression of these different compounds can assist in directed breeding efforts that maximize synthesis yield. The inheritance of cannabinoid expression in cannabis has been attributed to the Bt:Bd allele first described by De Meijer et al. This locus was further resolved as a copy number variation (CNV) in cannabis whole-genome sequencing studies. THCAS and CBDAS varietals are known to present copy number variation that is predictive of cannabinoid expression. Using SureSelect Target Enrichment Probes\, Kevin McKernan and colleagues were able to identify both copy number variations and point mutations that predict the production of non-psychoactive cannabigerolic acid. This cannabinoid has recently been described as a compound that blocks cell entry of SARs-CoV-2.
URL:https://bpa-pathology.com/event/use-of-sureselect-ngs-panels-for-genotype-to-chemotype-classification-in-cannabis-sativa-l/
END:VEVENT
END:VCALENDAR