BEGIN:VCALENDAR
VERSION:2.0
PRODID:-//Българска асоциация по патология - ECPv5.7.0//NONSGML v1.0//EN
CALSCALE:GREGORIAN
METHOD:PUBLISH
X-WR-CALNAME:Българска асоциация по патология
X-ORIGINAL-URL:https://bpa-pathology.com
X-WR-CALDESC:Събития за Българска асоциация по патология
BEGIN:VTIMEZONE
TZID:Europe/Sofia
BEGIN:DAYLIGHT
TZOFFSETFROM:+0200
TZOFFSETTO:+0300
TZNAME:EEST
DTSTART:20210328T010000
END:DAYLIGHT
BEGIN:STANDARD
TZOFFSETFROM:+0300
TZOFFSETTO:+0200
TZNAME:EET
DTSTART:20211031T010000
END:STANDARD
END:VTIMEZONE
BEGIN:VEVENT
DTSTART;TZID=Europe/Sofia:20210507T080000
DTEND;TZID=Europe/Sofia:20210508T170000
DTSTAMP:20260423T110601
CREATED:20210415T091629Z
LAST-MODIFIED:20210415T091629Z
UID:3161-1620374400-1620493200@bpa-pathology.com
SUMMARY:Virtual Course: Pathology of the Large Bowel
DESCRIPTION:(Austrian Society of Pathology and the Pannonian Working Group of Gastrointestinal Pathology)\nÖGPath-Pannonian Online Course: Pathology of the Large Bowel – ÖGPath – Österreichische Abteilung der IAP\n(oegpath.at)
URL:https://bpa-pathology.com/event/virtual-course-pathology-of-the-large-bowel/
END:VEVENT
END:VCALENDAR