BEGIN:VCALENDAR
VERSION:2.0
PRODID:-//Българска асоциация по патология - ECPv5.7.0//NONSGML v1.0//EN
CALSCALE:GREGORIAN
METHOD:PUBLISH
X-WR-CALNAME:Българска асоциация по патология
X-ORIGINAL-URL:https://bpa-pathology.com
X-WR-CALDESC:Събития за Българска асоциация по патология
BEGIN:VTIMEZONE
TZID:Europe/Sofia
BEGIN:DAYLIGHT
TZOFFSETFROM:+0200
TZOFFSETTO:+0300
TZNAME:EEST
DTSTART:20210328T010000
END:DAYLIGHT
BEGIN:STANDARD
TZOFFSETFROM:+0300
TZOFFSETTO:+0200
TZNAME:EET
DTSTART:20211031T010000
END:STANDARD
END:VTIMEZONE
BEGIN:VEVENT
DTSTART;TZID=Europe/Sofia:20210528T080000
DTEND;TZID=Europe/Sofia:20210608T170000
DTSTAMP:20260423T073606
CREATED:20210415T091828Z
LAST-MODIFIED:20210415T091828Z
UID:3163-1622188800-1623171600@bpa-pathology.com
SUMMARY:Virtual12th International Congress on Autoimmunity
DESCRIPTION:Going virtual – Autoimmunity 2021 (kenes.com)
URL:https://bpa-pathology.com/event/virtual12th-international-congress-on-autoimmunity/
END:VEVENT
END:VCALENDAR