BEGIN:VCALENDAR
VERSION:2.0
PRODID:-//Българска асоциация по патология - ECPv5.7.0//NONSGML v1.0//EN
CALSCALE:GREGORIAN
METHOD:PUBLISH
X-WR-CALNAME:Българска асоциация по патология
X-ORIGINAL-URL:https://bpa-pathology.com
X-WR-CALDESC:Събития за Българска асоциация по патология
BEGIN:VTIMEZONE
TZID:Europe/Sofia
BEGIN:DAYLIGHT
TZOFFSETFROM:+0200
TZOFFSETTO:+0300
TZNAME:EEST
DTSTART:20230326T010000
END:DAYLIGHT
BEGIN:STANDARD
TZOFFSETFROM:+0300
TZOFFSETTO:+0200
TZNAME:EET
DTSTART:20231029T010000
END:STANDARD
END:VTIMEZONE
BEGIN:VEVENT
DTSTART;TZID=Europe/Sofia:20230123T143000
DTEND;TZID=Europe/Sofia:20230123T153000
DTSTAMP:20260424T032124
CREATED:20230121T120858Z
LAST-MODIFIED:20230121T120858Z
UID:3580-1674484200-1674487800@bpa-pathology.com
SUMMARY:Webinar "Biomarkers in endometrial cancer"
DESCRIPTION:Moderators:\nXavier Matias-Guiu (ES)\nMaria Rosaria Raspollini (IT)\nSpeakers:\nXavier Matias-Guiu (ES)\nKoen Van de Vijver (BE)\nAna Oaknin (ES) \nProgramme:\nImportance of biomarker testing (X. Matias-Guiu) \nInterpretation of biomarker testing (K. Van de Vijver) \nImmunotherapy (A. Oaknin)\nQ&A \nThis live webinar is part of the virtual education series for Endometrial cancer\, developed by ESP in collaboration with GSK. The on-demand material is available via the ESP Education platform. \nYou are invited to send your questions/comments during the meeting by typing them in the Q&A section of the Zoom platform. \nInstructions to register:\nPlease follow this LINK and log in with your ESP credentials.\nAfter a successful login\, please follow the „Click here to register“ tab.\nThe link to participate will be sent by email a few hours before the webinar. \nThe webinar will be recorded\, and the recording will be made available via the ESP Educational\nPlatform. ESP members with an active account will receive a certificate of participation for the live\nwebinar. No certificate will be provided for on-demand viewing.
URL:https://bpa-pathology.com/event/webinar-biomarkers-in-endometrial-cancer/
END:VEVENT
END:VCALENDAR