BEGIN:VCALENDAR
VERSION:2.0
PRODID:-//Българска асоциация по патология - ECPv5.7.0//NONSGML v1.0//EN
CALSCALE:GREGORIAN
METHOD:PUBLISH
X-WR-CALNAME:Българска асоциация по патология
X-ORIGINAL-URL:https://bpa-pathology.com
X-WR-CALDESC:Събития за Българска асоциация по патология
BEGIN:VTIMEZONE
TZID:Europe/Sofia
BEGIN:DAYLIGHT
TZOFFSETFROM:+0200
TZOFFSETTO:+0300
TZNAME:EEST
DTSTART:20210328T010000
END:DAYLIGHT
BEGIN:STANDARD
TZOFFSETFROM:+0300
TZOFFSETTO:+0200
TZNAME:EET
DTSTART:20211031T010000
END:STANDARD
END:VTIMEZONE
BEGIN:VEVENT
DTSTART;TZID=Europe/Sofia:20210511T180000
DTEND;TZID=Europe/Sofia:20210511T200000
DTSTAMP:20260423T110356
CREATED:20210423T094646Z
LAST-MODIFIED:20210423T094646Z
UID:3179-1620756000-1620763200@bpa-pathology.com
SUMMARY:Webinar    CDK 4/6 inhibitors in HR+/HER2- ABC
DESCRIPTION:Agenda \nUpdate on ABC definitions in the 5th ESO-ESMO international consensus guidelines (ABC5) and recommendations for systemic treatment of Luminal-like disease (HR+/HER2-ABC) \nPresentation of interactive patient cases \nLive Q&A discussion
URL:https://bpa-pathology.com/event/webinar-cdk-4-6-inhibitors-in-hr-her2-abc/
END:VEVENT
END:VCALENDAR