BEGIN:VCALENDAR
VERSION:2.0
PRODID:-//Българска асоциация по патология - ECPv5.7.0//NONSGML v1.0//EN
CALSCALE:GREGORIAN
METHOD:PUBLISH
X-WR-CALNAME:Българска асоциация по патология
X-ORIGINAL-URL:https://bpa-pathology.com
X-WR-CALDESC:Събития за Българска асоциация по патология
BEGIN:VTIMEZONE
TZID:Europe/Sofia
BEGIN:DAYLIGHT
TZOFFSETFROM:+0200
TZOFFSETTO:+0300
TZNAME:EEST
DTSTART:20220327T010000
END:DAYLIGHT
BEGIN:STANDARD
TZOFFSETFROM:+0300
TZOFFSETTO:+0200
TZNAME:EET
DTSTART:20221030T010000
END:STANDARD
END:VTIMEZONE
BEGIN:VEVENT
DTSTART;TZID=Europe/Sofia:20220210T190000
DTEND;TZID=Europe/Sofia:20220210T203000
DTSTAMP:20260423T042808
CREATED:20220203T145234Z
LAST-MODIFIED:20220203T145234Z
UID:3436-1644519600-1644525000@bpa-pathology.com
SUMMARY:Webinar on digital pathology
DESCRIPTION:Invitation to the webinar on digital pathology\nDear lovers of digital pathomorphology! \nWe invite you to another webinar in our “Pathology Digitalization” webinar series. \nThis time we\, together with our colleagues from UNIM\, will cover two topics: \n– Diagnosis of lung cancer in small biopsies\, Galina Makarnyaeva\, UNIM\, pathologist \n– Data Science & pathology diagnostics: theory and practice\, Alexey Remez\, UNIM\, CEO \nThe webinar will take place on 10 February 2022 at 19:00 CET.
URL:https://bpa-pathology.com/event/webinar-on-digital-pathology/
END:VEVENT
END:VCALENDAR