BEGIN:VCALENDAR
VERSION:2.0
PRODID:-//Българска асоциация по патология - ECPv5.7.0//NONSGML v1.0//EN
CALSCALE:GREGORIAN
METHOD:PUBLISH
X-WR-CALNAME:Българска асоциация по патология
X-ORIGINAL-URL:https://bpa-pathology.com
X-WR-CALDESC:Събития за Българска асоциация по патология
BEGIN:VTIMEZONE
TZID:Europe/Sofia
BEGIN:DAYLIGHT
TZOFFSETFROM:+0200
TZOFFSETTO:+0300
TZNAME:EEST
DTSTART:20210328T010000
END:DAYLIGHT
BEGIN:STANDARD
TZOFFSETFROM:+0300
TZOFFSETTO:+0200
TZNAME:EET
DTSTART:20211031T010000
END:STANDARD
END:VTIMEZONE
BEGIN:VEVENT
DTSTART;TZID=Europe/Sofia:20210304T160000
DTEND;TZID=Europe/Sofia:20210304T173000
DTSTAMP:20260423T160811
CREATED:20210301T082800Z
LAST-MODIFIED:20210301T082800Z
UID:3117-1614873600-1614879000@bpa-pathology.com
SUMMARY:Webinar organized by the ESP Breast Pathology Working Group
DESCRIPTION:Speakers:\nDr Puay Hoon Tan (SG)\nDr Cecily Quinn (IE)\nDr Fernando Schmitt (PT) \nModerators:\nDr Zsuzsanna Varga (CH)\nDr Gabor Cserni (HU)
URL:https://bpa-pathology.com/event/webinar-organized-by-the-esp-breast-pathology-working-group/
END:VEVENT
END:VCALENDAR