BEGIN:VCALENDAR
VERSION:2.0
PRODID:-//Българска асоциация по патология - ECPv5.7.0//NONSGML v1.0//EN
CALSCALE:GREGORIAN
METHOD:PUBLISH
X-WR-CALNAME:Българска асоциация по патология
X-ORIGINAL-URL:https://bpa-pathology.com
X-WR-CALDESC:Събития за Българска асоциация по патология
BEGIN:VTIMEZONE
TZID:Europe/Sofia
BEGIN:DAYLIGHT
TZOFFSETFROM:+0200
TZOFFSETTO:+0300
TZNAME:EEST
DTSTART:20230326T010000
END:DAYLIGHT
BEGIN:STANDARD
TZOFFSETFROM:+0300
TZOFFSETTO:+0200
TZNAME:EET
DTSTART:20231029T010000
END:STANDARD
END:VTIMEZONE
BEGIN:VEVENT
DTSTART;TZID=Europe/Sofia:20230111T160000
DTEND;TZID=Europe/Sofia:20230111T170000
DTSTAMP:20260424T015952
CREATED:20221221T091230Z
LAST-MODIFIED:20221221T091230Z
UID:3573-1673452800-1673456400@bpa-pathology.com
SUMMARY:WEBINAR "Pathology of coronary arteries: not only atherosclerosis. What pathologists need to know"
DESCRIPTION:The European Society of Pathology (ESP) is pleased to invite you to a live webinar which will be organised in collaboration with the Association for European Cardiovascular Pathology (AECVP). \nSpeakers: \nCira di Gioia (IT)\nAllard van der Wal (NL)\nCristina Basso (IT) \nProgramme:\nCongenital abnormalities (C. di Gioia) \nComplications of atherosclerosis: clinical-pathologic correlations (A.C. van der Wal) \nNon-atherosclerotic causes of myocardial ischemia (C. Basso)\nQ&A \n\nYou are invited to send your questions/comments during the meeting by typing them in the Q&A section of the Zoom platform.  \n\nInstructions to register:\nPlease follow this LINK and log in with your ESP credentials.\nAfter a successful login\, please follow the „Click here to register“ tab.\nThe link to participate will be sent by email a few hours before the webinar.  \n  \nThe webinar will be recorded\, and the recording will be made available via the ESP Educational Platform. ESP members with an active account will receive a certificate of participation for the live webinar. On demand access does not provide any certificate.
URL:https://bpa-pathology.com/event/webinar-pathology-of-coronary-arteries-not-only-atherosclerosis-what-pathologists-need-to-know/
END:VEVENT
END:VCALENDAR