BEGIN:VCALENDAR
VERSION:2.0
PRODID:-//Българска асоциация по патология - ECPv5.7.0//NONSGML v1.0//EN
CALSCALE:GREGORIAN
METHOD:PUBLISH
X-WR-CALNAME:Българска асоциация по патология
X-ORIGINAL-URL:https://bpa-pathology.com
X-WR-CALDESC:Събития за Българска асоциация по патология
BEGIN:VTIMEZONE
TZID:Europe/Sofia
BEGIN:DAYLIGHT
TZOFFSETFROM:+0200
TZOFFSETTO:+0300
TZNAME:EEST
DTSTART:20230326T010000
END:DAYLIGHT
BEGIN:STANDARD
TZOFFSETFROM:+0300
TZOFFSETTO:+0200
TZNAME:EET
DTSTART:20231029T010000
END:STANDARD
END:VTIMEZONE
BEGIN:VEVENT
DTSTART;TZID=Europe/Sofia:20230615T150000
DTEND;TZID=Europe/Sofia:20230615T170000
DTSTAMP:20260421T220443
CREATED:20230614T065317Z
LAST-MODIFIED:20230614T065317Z
UID:3644-1686841200-1686848400@bpa-pathology.com
SUMMARY:Workshop: Expression Profiling in Challenging Melanocytic Lesions
DESCRIPTION:Join Dr. Matthew Goldberg\, M.D.\, Senior Vice-President\, Medical Affairs\, at Castle Biosciences\, and Dr. Z. for a brief update on Castle Biosciences MyPath Melanoma Test and a review of 9 challenging cases diagnosed with its help. \nYou can preview these cases prior to the Workshop to see how your diagnoses compare to those of your peers. (Click HERE) \nIf you are new to Dermpedia or haven’t registered to Dermpedia Workshops\, you can do so HERE
URL:https://bpa-pathology.com/event/workshop-expression-profiling-in-challenging-melanocytic-lesions/
END:VEVENT
END:VCALENDAR