BEGIN:VCALENDAR
VERSION:2.0
PRODID:-//Българска асоциация по патология - ECPv5.7.0//NONSGML v1.0//EN
CALSCALE:GREGORIAN
METHOD:PUBLISH
X-WR-CALNAME:Българска асоциация по патология
X-ORIGINAL-URL:https://bpa-pathology.com
X-WR-CALDESC:Събития за Българска асоциация по патология
BEGIN:VTIMEZONE
TZID:Europe/Sofia
BEGIN:DAYLIGHT
TZOFFSETFROM:+0200
TZOFFSETTO:+0300
TZNAME:EEST
DTSTART:20240331T010000
END:DAYLIGHT
BEGIN:STANDARD
TZOFFSETFROM:+0300
TZOFFSETTO:+0200
TZNAME:EET
DTSTART:20241027T010000
END:STANDARD
END:VTIMEZONE
BEGIN:VEVENT
DTSTART;TZID=Europe/Sofia:20240629T080000
DTEND;TZID=Europe/Sofia:20240701T170000
DTSTAMP:20260425T213513
CREATED:20240507T064533Z
LAST-MODIFIED:20240507T064533Z
UID:3745-1719648000-1719853200@bpa-pathology.com
SUMMARY:EScoP course for Bone Marrow Pathology
DESCRIPTION:Venue: Leonardo Royal Hotel Den Haag Promenade. \nAddress: Van Stolkweg 1\, 2585 JL Den Haag\, Netherlands \n\nFaculty:\nAlexandar Tzankov\, University Hospital Basel\, Switzerland\nKonnie Hebeda\, Radboudumc Nijmegen\, Netherlands\nLaurence de Leval\, CHUV\, Lausanne\, Switzerland\n\nAttendance: This course is with on-site attendance only and will not be recorded \n\nCourse language: The course will be provided in English\n\nRegistration fees:\n\nFor the course programme only*:\nESP members (with active membership for 2024): 260 Euro \nNon-ESP members: 310 Euro \n\nFor both the course programme and the social event (networking buffet dinner):\nESP members (with active membership for 2024): 300 Euro \nNon-ESP members: 370 Euro \n\nPayments are available via bank transfer only. There is no option for on-site\nregistrations/payments.\nThe available slots will be allocated on a first-come\, first-served basis.\n\nDeadline to register: 10 June 2024\n\n*Registration for the course programme includes access to the course venue\, coffee breaks \nand lunches\, access to the online platform with the course material and a personalised\ncertificate of attendance.\n\n\n\nFor any questions and registrations contact the ESP Education Manager\, Dr Christos Poulios\,\nat admin@esp-pathology.org having as email subject “EScoP Hague 2024” and providing \nthe following information:\n– Full name and country\n– If there is specific information required to be provided in the payment note and proof\nof payment (i.e. VAT number\, company name etc)\n– Interest in presenting a case\n– Interest in joining the social event or not
URL:https://bpa-pathology.com/event/escop-course-for-bone-marrow-pathology/
LOCATION:Leonardo Royal Hotel Den Haag Promenade\, Van Stolkweg 1\, Hague\, 2585\, Холандия
END:VEVENT
END:VCALENDAR