BEGIN:VCALENDAR
VERSION:2.0
PRODID:-//Българска асоциация по патология - ECPv5.7.0//NONSGML v1.0//EN
CALSCALE:GREGORIAN
METHOD:PUBLISH
X-WR-CALNAME:Българска асоциация по патология
X-ORIGINAL-URL:https://bpa-pathology.com
X-WR-CALDESC:Събития за Българска асоциация по патология
BEGIN:VTIMEZONE
TZID:Europe/Sofia
BEGIN:DAYLIGHT
TZOFFSETFROM:+0200
TZOFFSETTO:+0300
TZNAME:EEST
DTSTART:20240331T010000
END:DAYLIGHT
BEGIN:STANDARD
TZOFFSETFROM:+0300
TZOFFSETTO:+0200
TZNAME:EET
DTSTART:20241027T010000
END:STANDARD
END:VTIMEZONE
BEGIN:VEVENT
DTSTART;TZID=Europe/Sofia:20241009T070000
DTEND;TZID=Europe/Sofia:20241011T170000
DTSTAMP:20260425T162612
CREATED:20240404T102933Z
LAST-MODIFIED:20240404T104303Z
UID:3728-1728457200-1728666000@bpa-pathology.com
SUMMARY:Diagnostic Thyroid Pathology and Cytology
DESCRIPTION:During the course\, the participants will review approximately 50 cases dealing with a variety of neoplastic and non-neoplastic thyroid lesions. The cases have been carefully selected to illustrate common diagnostic problems and pitfalls in thyroid pathology and provide the basis for in-depth discussion of morphologic criteria and usefulness of complementary investigations in achieving the correct diagnosis. In addition to the slide seminar\, several lectures by experts in pathology will be provided. \nHot topics this year: \n\nWHO 2022 classification: important changes for thyroid tumors in focus\nMolecular testing on FNA: pro and contra\nHighly selective RET-kinase inhibitors and RET testing: when and how\n\nFlyer_Thyroid_Course_2024
URL:https://bpa-pathology.com/event/diagnostic-thyroid-pathology-and-cytology/
LOCATION:Medical University Graz\, Graz\, Австрия
END:VEVENT
BEGIN:VEVENT
DTSTART;TZID=Europe/Sofia:20241010T180000
DTEND;TZID=Europe/Sofia:20241010T190000
DTSTAMP:20260425T162612
CREATED:20241007T083242Z
LAST-MODIFIED:20241007T083242Z
UID:3788-1728583200-1728586800@bpa-pathology.com
SUMMARY:Cases Discussion via Zoom
DESCRIPTION: Dr Dionysios J. Papachristou from University of Patras will present and discuss some B-ST cases via zoom. Everyone is welcome to participate. The cases will be presented in English. \nThis is the link in case you are interested. https://upatras-gr.zoom.us/j/96548292707?pwd=c2tZNk5USE5iK3EzUjNmemR5VGpsZz09\n\n\nDionysios J. Papachristou\, MD\, PhD\n\nProfessor\, Consultant Histopathologist\nUniv. of Patras\, School of Medicine\n\nPatras\, GREECE\n\nScientific Coordinator\, Unit of Bone and Soft Tissue Studies\nDept. of Anatomy-Histology-Embryology\nAdj. Professor\, Dept. of Pathology\nUniv. of Pittsburgh\, Pittsburgh\, PA\, USA\nDirector\, Dept. of Pathology\n„Olympion“ General Clinic\, Patras\, GREECE\ne-mail: papachristoudj@med.upatras.gr\, dip13@pitt.edu\ntelephone: 0030-2610-464089 (Clinic)\, \n0030-2610-969188 (Office\, UPatras)\, 0030-2610-969199 (Lab\, UPatras)\nURL: Google Scholar\n\nhttp://rdo.upatras.gr/v1/person/view/1105
URL:https://bpa-pathology.com/event/cases-discussion-via-zoom/
END:VEVENT
END:VCALENDAR