BEGIN:VCALENDAR
VERSION:2.0
PRODID:-//Българска асоциация по патология - ECPv5.7.0//NONSGML v1.0//EN
CALSCALE:GREGORIAN
METHOD:PUBLISH
X-WR-CALNAME:Българска асоциация по патология
X-ORIGINAL-URL:https://bpa-pathology.com
X-WR-CALDESC:Събития за Българска асоциация по патология
BEGIN:VTIMEZONE
TZID:Europe/Sofia
BEGIN:DAYLIGHT
TZOFFSETFROM:+0200
TZOFFSETTO:+0300
TZNAME:EEST
DTSTART:20240331T010000
END:DAYLIGHT
BEGIN:STANDARD
TZOFFSETFROM:+0300
TZOFFSETTO:+0200
TZNAME:EET
DTSTART:20241027T010000
END:STANDARD
END:VTIMEZONE
BEGIN:VEVENT
DTSTART;TZID=Europe/Sofia:20241024T150000
DTEND;TZID=Europe/Sofia:20241024T170000
DTSTAMP:20260425T160703
CREATED:20240927T113955Z
LAST-MODIFIED:20240927T113955Z
UID:3779-1729782000-1729789200@bpa-pathology.com
SUMMARY:Webinar Challenges in The Education of Young Cancer Professionals
DESCRIPTION:ESP is joining the European Cancer Organisation (ECO) to provide an online Roundtable (webinar): “Challenges in The Education of Young Cancer Professionals” scheduled for Thursday\, 24 October 2024 at 15:00-17:00 CEST. \n\nDuring this Roundtable\, the panel will address the current situation and share insight from two Medical Organisations\, ESP and ASCO\, into how to overcome any challenges.
URL:https://bpa-pathology.com/event/webinar-challenges-in-the-education-of-young-cancer-professionals/
END:VEVENT
END:VCALENDAR