BEGIN:VCALENDAR
VERSION:2.0
PRODID:-//Българска асоциация по патология - ECPv5.7.0//NONSGML v1.0//EN
CALSCALE:GREGORIAN
METHOD:PUBLISH
X-WR-CALNAME:Българска асоциация по патология
X-ORIGINAL-URL:https://bpa-pathology.com
X-WR-CALDESC:Събития за Българска асоциация по патология
BEGIN:VTIMEZONE
TZID:Europe/Sofia
BEGIN:DAYLIGHT
TZOFFSETFROM:+0200
TZOFFSETTO:+0300
TZNAME:EEST
DTSTART:20250330T010000
END:DAYLIGHT
BEGIN:STANDARD
TZOFFSETFROM:+0300
TZOFFSETTO:+0200
TZNAME:EET
DTSTART:20251026T010000
END:STANDARD
END:VTIMEZONE
BEGIN:VEVENT
DTSTART;TZID=Europe/Sofia:20250902T080000
DTEND;TZID=Europe/Sofia:20250904T170000
DTSTAMP:20260424T231246
CREATED:20241223T165520Z
LAST-MODIFIED:20241223T165520Z
UID:3813-1756800000-1757005200@bpa-pathology.com
SUMMARY:15th world Pathology\, Digital Pathology & Cancer Conference
DESCRIPTION:We cordially invite you to the 15th world Pathology\, Digital Pathology & Cancer Conference\, which will be held in Riyadh\, Saudi Arabia\, from September 02–04\, 2025\, on behalf of the Pathology Utilitarian Committee.\nThe theme of the conference will be “Beyond Boundaries: Mapping the Future of Pathology and Digital Pathology”\, \nConference venue: Riyadh\, Saudi Arabia & Online\nYou will have the chance to learn about practical\, real-world applications in the rapidly expanding field of digital pathology at UCGConferences. you will also have direct access to industry leaders and a range of innovative workshops led by well-known industry visionaries. With its combination of timely keynote addresses\, poster presentations\, colloquiums\, workshops\, and a Young Researchers Forum on emerging technologies in pathology\, digital pathology\, and cancer\, this conference offers a great chance for international networking and idea exchange. Aim of the conference is serve as platforms for sharing knowledge\, discussing recent advancements\, and promoting collaboration among individuals involved in these areas. \nExpert Committee Members\, Plenary Speakers\, Speakers\, Pathologist\, Dermatologists\, Neurologists\, Surgeons\, Cytopathologists\, Dermatopathologists\, Gynaecologists\, Delegates\, Exhibitors\, Sponsors\, Students\, Business People\, Young Researchers\, Scholars\, Scientists\, Lecturers\, and Business People are all invited by the Utilitarian Conferences Committee Experts. Pathologist Pathologists for cells Pathologists that specialize in molecular pathology Cancer specialists’ gastrointestinal specialists Surgeon’s hematopathologists neurosurgeons Obstetricians and Gynaecologists Directors and managers of laboratories Pathologists instructing general practitioners’ experts in laboratories medical practitioners students studying medicine. \nTarget Audience:\nPathologists\, Neurologist\, Surgeons\, Cytopathologists\, Clinical and academic dermatologists\, residents\, fellows\, mid-level Providers allied healthcare Providers students with a special interest in dermatology. Dermatopathologists\, Gynaecologists\, Lecturers. CTOs\, VPs\, Directors\, Senior Managers\, Scientists\, Doctors\, Chief officers\, Professors\, Anatomic Pathologist\, Product Managers. \nImportant details\nHome page: https://pathology.utilitarianconferences.com/\nAbstract Submission https://pathology.utilitarianconferences.com/submit-abstract\nRegistration https://pathology.utilitarianconferences.com/registration
URL:https://bpa-pathology.com/event/15th-world-pathology-digital-pathology-cancer-conference/
END:VEVENT
END:VCALENDAR