BEGIN:VCALENDAR
VERSION:2.0
PRODID:-//Българска асоциация по патология - ECPv5.7.0//NONSGML v1.0//EN
CALSCALE:GREGORIAN
METHOD:PUBLISH
X-WR-CALNAME:Българска асоциация по патология
X-ORIGINAL-URL:https://bpa-pathology.com
X-WR-CALDESC:Събития за Българска асоциация по патология
BEGIN:VTIMEZONE
TZID:Europe/Sofia
BEGIN:DAYLIGHT
TZOFFSETFROM:+0200
TZOFFSETTO:+0300
TZNAME:EEST
DTSTART:20250330T010000
END:DAYLIGHT
BEGIN:STANDARD
TZOFFSETFROM:+0300
TZOFFSETTO:+0200
TZNAME:EET
DTSTART:20251026T010000
END:STANDARD
END:VTIMEZONE
BEGIN:VEVENT
DTSTART;TZID=Europe/Sofia:20250906T080000
DTEND;TZID=Europe/Sofia:20250910T170000
DTSTAMP:20260424T231427
CREATED:20250106T093227Z
LAST-MODIFIED:20250106T093227Z
UID:3823-1757145600-1757523600@bpa-pathology.com
SUMMARY:37th European Congress of Pathology
DESCRIPTION:Dates & Deadlines\n\n\n\n\n\n\n\n\n\n\n\n\nJanuary 2025 | Launch of online registration and abstract/bursary application submission\n2 April 2025 | First registration deadline\n2 April 2025 | Abstract and bursary application submission deadline\n26 June 2025 | Registration deadline for authors of accepted abstracts\n3 July 2025 | Second registration deadline\n6 September 2025 | Opening Ceremony and Networking Reception of the 37th European Congress of Pathology
URL:https://bpa-pathology.com/event/37th-european-congress-of-pathology/
END:VEVENT
BEGIN:VEVENT
DTSTART;TZID=Europe/Sofia:20250909T080000
DTEND;TZID=Europe/Sofia:20250909T170000
DTSTAMP:20260424T231427
CREATED:20250310T120053Z
LAST-MODIFIED:20250310T120053Z
UID:3860-1757404800-1757437200@bpa-pathology.com
SUMMARY:ECP2025Vienna - Technician Symposium
DESCRIPTION:The Technician Symposium will take place on Tuesday\, 9th September 2025 and is targeted towards medical scientists\, technicians\, and technical experts. European Society of Pathology (ESP) is happy to offer reasonable registration fees for this target group. \n  \nRecognising the integral\, multidisciplinary nature of modern pathology practice\, the ECP in Vienna will\, for the first time\, feature a dedicated programme focusing on the crucial collaborative role of medical scientists and other allied staff in advancing integration of innovative techniques and technologies to routine diagnostic practice. Engaging presentations and panel discussions on topics such as Histodissection\, Digital Pathology\, Molecular Pathology and Artificial Intelligence will showcase how cross-disciplinary collaboration can transform diagnostic services while promoting professional growth. By sharing experiences and fostering thought-provoking discussions\, these sessions aim to inspire advancements that will enhance the quality and effectiveness of pathological services in the future. \n  \nDetails are available through the congress website at www.espcongress.org.
URL:https://bpa-pathology.com/event/ecp2025vienna-technician-symposium/
END:VEVENT
END:VCALENDAR