BEGIN:VCALENDAR
VERSION:2.0
PRODID:-//Българска асоциация по патология - ECPv5.7.0//NONSGML v1.0//EN
CALSCALE:GREGORIAN
METHOD:PUBLISH
X-WR-CALNAME:Българска асоциация по патология
X-ORIGINAL-URL:https://bpa-pathology.com
X-WR-CALDESC:Събития за Българска асоциация по патология
BEGIN:VTIMEZONE
TZID:Europe/Sofia
BEGIN:DAYLIGHT
TZOFFSETFROM:+0200
TZOFFSETTO:+0300
TZNAME:EEST
DTSTART:20250330T010000
END:DAYLIGHT
BEGIN:STANDARD
TZOFFSETFROM:+0300
TZOFFSETTO:+0200
TZNAME:EET
DTSTART:20251026T010000
END:STANDARD
END:VTIMEZONE
BEGIN:VEVENT
DTSTART;TZID=Europe/Sofia:20250924T080000
DTEND;TZID=Europe/Sofia:20250927T170000
DTSTAMP:20260424T231354
CREATED:20250702T105406Z
LAST-MODIFIED:20250702T105406Z
UID:3890-1758700800-1758992400@bpa-pathology.com
SUMMARY:7th Advances in Circulating Tumor Cells meeting
DESCRIPTION:All Researchers from Academia and industry and clinicians from all over the world to the 7th Advances in Circulating Tumor Cells meeting: “Liquid Biopsy: from Bench to Bedside” that will be held on September 24th – 27th\, 2025 in the beautiful city of Thessaloniki\, Greece. \nLiquid biopsy has already revealed its tremendous potential to significantly change the therapeutic strategy and management of cancer patients. The 7th ACTC meeting (www.actc2025.org) will focus on the latest advances on liquid biopsy basic research\, state of the art technologies\, and clinical applications in many types of cancer\, from bench to bedside.
URL:https://bpa-pathology.com/event/7th-advances-in-circulating-tumor-cells-meeting/
LOCATION:Macedonian Palace Hotel\, Thessaloniki\, Гърция
END:VEVENT
END:VCALENDAR