BEGIN:VCALENDAR
VERSION:2.0
PRODID:-//Българска асоциация по патология - ECPv5.7.0//NONSGML v1.0//EN
CALSCALE:GREGORIAN
METHOD:PUBLISH
X-WR-CALNAME:Българска асоциация по патология
X-ORIGINAL-URL:https://bpa-pathology.com
X-WR-CALDESC:Събития за Българска асоциация по патология
BEGIN:VTIMEZONE
TZID:Europe/Sofia
BEGIN:DAYLIGHT
TZOFFSETFROM:+0200
TZOFFSETTO:+0300
TZNAME:EEST
DTSTART:20250330T010000
END:DAYLIGHT
BEGIN:STANDARD
TZOFFSETFROM:+0300
TZOFFSETTO:+0200
TZNAME:EET
DTSTART:20251026T010000
END:STANDARD
END:VTIMEZONE
BEGIN:VEVENT
DTSTART;TZID=Europe/Sofia:20251007T160000
DTEND;TZID=Europe/Sofia:20251007T170000
DTSTAMP:20260424T214245
CREATED:20251006T064452Z
LAST-MODIFIED:20251006T064452Z
UID:3926-1759852800-1759856400@bpa-pathology.com
SUMMARY:ESP Webinar Series on Clinical Trials
DESCRIPTION:The first webinar of this series\, scheduled for 7 October 2025 at 16:00-17:00 CEST\, will address the subject of “Basic concepts and type of clinical trials”.\n\nThe speaker for this webinar is Prof. José Alejandro Pérez-Fidalgo.\nThe webinar will be moderated by Prof. Xavier Matias-Guiu\, ESP President\, and Prof. Catarina Eloy\, Chair of the ESP Education Subcommittee.\n\nDuring the webinar\, the following topics will be addressed:\n–        Validity and precision\n–        Type of studies (descriptive\, analytic)\n–        Type of clinical trials\n–        Phase I trial: concepts\n–        Phase II trial: concepts\n–        Phase III trial: Hypothesis contrast\, survival curves and interpretation\n–        New designs: umbrella\, basket trials and adaptative trials\n\nRegistration for the 1st webinar of this series is now open and available via this LINK.\nThis webinar is offered free of charge to all colleagues.\nIn addition\, ESP members will enjoy access to the webinar recording (via the ESP Educational Platform) and a certificate of attendance.
URL:https://bpa-pathology.com/event/esp-webinar-series-on-clinical-trials/
END:VEVENT
END:VCALENDAR