BEGIN:VCALENDAR
VERSION:2.0
PRODID:-//Българска асоциация по патология - ECPv5.7.0//NONSGML v1.0//EN
CALSCALE:GREGORIAN
METHOD:PUBLISH
X-WR-CALNAME:Българска асоциация по патология
X-ORIGINAL-URL:https://bpa-pathology.com
X-WR-CALDESC:Събития за Българска асоциация по патология
BEGIN:VTIMEZONE
TZID:Europe/Sofia
BEGIN:DAYLIGHT
TZOFFSETFROM:+0200
TZOFFSETTO:+0300
TZNAME:EEST
DTSTART:20250330T010000
END:DAYLIGHT
BEGIN:STANDARD
TZOFFSETFROM:+0300
TZOFFSETTO:+0200
TZNAME:EET
DTSTART:20251026T010000
END:STANDARD
END:VTIMEZONE
BEGIN:VEVENT
DTSTART;TZID=Europe/Sofia:20251021T170000
DTEND;TZID=Europe/Sofia:20251021T180000
DTSTAMP:20260424T214556
CREATED:20251013T072104Z
LAST-MODIFIED:20251013T072104Z
UID:3933-1761066000-1761069600@bpa-pathology.com
SUMMARY:Giant cell - rich lesions of bone
DESCRIPTION:New initiative on bone pathologies: N.O.D.E. (Network on Osteopathology Diagnosis and Education) organized and coordinated by Dr. Baque  from the Spanish sarcoma group and Dionysios J. Papachristou MD\, PhD Coordinator of the Bone and Soft Tissue Working Group of the Greek Society of Pathology (EEPA)  \n.Event is scheduled on Tuesday\, October 21st\, 2025\, 16.00 (CET) with our first invited speaker\, Prof. Petur Nielsen (Harvard Medical School\, Director of Bone and Soft Tissue Pathology\, at Massachusetts General Hospital in Boston\, Massachusetts\, USA)\, topic: “Giant cell – rich lesions of bone”. \nThe lecture is free of charge. \nZoom link: https://upatras-gr.zoom.us/j/96548292707?pwd=c2tZNk5USE5iK3EzUjNmemR5VGpsZz09  \nNODE 1 session announcement Nielsen 2025 v3 ausp \nNODE introduction poster v3_ausp
URL:https://bpa-pathology.com/event/giant-cell-rich-lesions-of-bone/
END:VEVENT
END:VCALENDAR