BEGIN:VCALENDAR
VERSION:2.0
PRODID:-//Българска асоциация по патология - ECPv5.7.0//NONSGML v1.0//EN
CALSCALE:GREGORIAN
METHOD:PUBLISH
X-WR-CALNAME:Българска асоциация по патология
X-ORIGINAL-URL:https://bpa-pathology.com
X-WR-CALDESC:Събития за Българска асоциация по патология
BEGIN:VTIMEZONE
TZID:Europe/Sofia
BEGIN:DAYLIGHT
TZOFFSETFROM:+0200
TZOFFSETTO:+0300
TZNAME:EEST
DTSTART:20260329T010000
END:DAYLIGHT
BEGIN:STANDARD
TZOFFSETFROM:+0300
TZOFFSETTO:+0200
TZNAME:EET
DTSTART:20261025T010000
END:STANDARD
END:VTIMEZONE
BEGIN:VEVENT
DTSTART;TZID=Europe/Sofia:20260209T080000
DTEND;TZID=Europe/Sofia:20260211T170000
DTSTAMP:20260424T154335
CREATED:20251208T100955Z
LAST-MODIFIED:20251208T100955Z
UID:3966-1770624000-1770829200@bpa-pathology.com
SUMMARY:EScoP course on Cardiovascular Pathology
DESCRIPTION:Continuing the organisation of courses for the European School of Pathology (EScoP)\, the European Society of Pathology (ESP) is pleased to announce an EScoP Course on Cardiovascular Pathology\, scheduled for 9-11 February 2026 in Berlin\, Germany.\n\nThe course will focus on the everyday life of a Cardiovascular Pathologist by presenting cases\, tips\, and challenges.\n\nThe following specialists will be the Faculty for the course:\nCristina Basso\, Padua University\, Padua\, Italy\nGiulia d’Amati\, Sapienza University\, Rome\, Italy\nCarla Giordano\, Sapienza University\, Rome\, Italy\nKarin Klingel\, University Hospital Tübingen\, Tübingen\, Germany\n\nFor detailed information about the course and to register please visit the ESP website.
URL:https://bpa-pathology.com/event/escop-course-on-cardiovascular-pathology/
END:VEVENT
END:VCALENDAR