BEGIN:VCALENDAR
VERSION:2.0
PRODID:-//Българска асоциация по патология - ECPv5.7.0//NONSGML v1.0//EN
CALSCALE:GREGORIAN
METHOD:PUBLISH
X-WR-CALNAME:Българска асоциация по патология
X-ORIGINAL-URL:https://bpa-pathology.com
X-WR-CALDESC:Събития за Българска асоциация по патология
BEGIN:VTIMEZONE
TZID:Europe/Sofia
BEGIN:DAYLIGHT
TZOFFSETFROM:+0200
TZOFFSETTO:+0300
TZNAME:EEST
DTSTART:20260329T010000
END:DAYLIGHT
BEGIN:STANDARD
TZOFFSETFROM:+0300
TZOFFSETTO:+0200
TZNAME:EET
DTSTART:20261025T010000
END:STANDARD
END:VTIMEZONE
BEGIN:VEVENT
DTSTART;TZID=Europe/Sofia:20260912T080000
DTEND;TZID=Europe/Sofia:20260916T170000
DTSTAMP:20260424T201136
CREATED:20260401T140749Z
LAST-MODIFIED:20260401T140749Z
UID:4003-1789200000-1789578000@bpa-pathology.com
SUMMARY:38th European Congress of Pathology (ECP)
DESCRIPTION:ECP 2026 will bring together more than 5\,000 participants worldwide—pathologists\, clinicians\, researchers\, molecular biologists\, bioinformaticians\, medical scientists\, and industry partners. The meeting will provide an ideal opportunity for professional development\, networking\, exchange insights\, and will demonstrate the commitment of the ESP to contributing to Pathology progress in the near future. \nThe motto of the congress – “Innovation Driving Excellence in Pathology” –acknowledges the significant improvement that pathology innovation has brought and continues to bring to diagnostics\, assessment of prognosis and therapy response prediction and clinical practice. The excellent program prepared by the ESP working groups\, ESP-affiliated societies\, education and trainee committees\, and other collaborating societies will include keynote lectures\, slide seminars\, symposia\, and interactive workshops\, from internationally renowned speakers and leaders in their fields. There will be a special focus on digital pathology\, AI integration\, and emerging technologies that are transforming our field. \nRegistration – 38th European Congress of Pathology
URL:https://bpa-pathology.com/event/38th-european-congress-of-pathology-ecp/
LOCATION:Stockholmsmässan\, Mässvägen 1\, Stockholm\, Швеция
END:VEVENT
END:VCALENDAR