BEGIN:VCALENDAR
VERSION:2.0
PRODID:-//Българска асоциация по патология - ECPv5.7.0//NONSGML v1.0//EN
CALSCALE:GREGORIAN
METHOD:PUBLISH
X-WR-CALNAME:Българска асоциация по патология
X-ORIGINAL-URL:https://bpa-pathology.com
X-WR-CALDESC:Събития за Българска асоциация по патология
BEGIN:VTIMEZONE
TZID:Europe/Sofia
BEGIN:DAYLIGHT
TZOFFSETFROM:+0200
TZOFFSETTO:+0300
TZNAME:EEST
DTSTART:20260329T010000
END:DAYLIGHT
BEGIN:STANDARD
TZOFFSETFROM:+0300
TZOFFSETTO:+0200
TZNAME:EET
DTSTART:20261025T010000
END:STANDARD
END:VTIMEZONE
BEGIN:VEVENT
DTSTART;TZID=Europe/Sofia:20261021T080000
DTEND;TZID=Europe/Sofia:20261023T170000
DTSTAMP:20260424T214530
CREATED:20260305T084300Z
LAST-MODIFIED:20260305T084300Z
UID:3995-1792569600-1792774800@bpa-pathology.com
SUMMARY:Diagnostic Thyroid Pathology and Cytology
DESCRIPTION:COURSE OBJECTIVES\nDuring the course\, the participants will review approximately 60 cases dealing\nwith a variety of neoplastic and non-neoplastic thyroid lesions. The cases have\nbeen carefully selected to illustrate common diagnostic problems and pitfalls in\nthyroid pathology and provide the basis for in-depth discussion of morphologic\ncriteria and usefulness of complementary investigations in achieving the\ncorrect diagnosis. In addition to the slide seminar\, several lectures by experts\nin pathology will be provided.\nSpecial topics:\n WHO 2022 classification: important changes for thyroid tumors in focus\n Molecular testing on FNA: pro and contra\n Papillae\, intermediate nuclei and high grade features: the weird spectrum\nof DICER1 mutated thyroid nodules
URL:https://bpa-pathology.com/event/diagnostic-thyroid-pathology-and-cytology-3/
LOCATION:Medical University of Graz\, Neue Stiftingtalstraße 6\, Graz\, 8010\, Австрия
END:VEVENT
END:VCALENDAR